BEGIN:VCALENDAR
VERSION:2.0
PRODID:-//TatsuToraKai Deutschland e.V. - ECPv6.15.15//NONSGML v1.0//EN
CALSCALE:GREGORIAN
METHOD:PUBLISH
X-WR-CALNAME:TatsuToraKai Deutschland e.V.
X-ORIGINAL-URL:https://tatsutorakai.org
X-WR-CALDESC:Veranstaltungen für TatsuToraKai Deutschland e.V.
REFRESH-INTERVAL;VALUE=DURATION:PT1H
X-Robots-Tag:noindex
X-PUBLISHED-TTL:PT1H
BEGIN:VTIMEZONE
TZID:Europe/Berlin
BEGIN:DAYLIGHT
TZOFFSETFROM:+0100
TZOFFSETTO:+0200
TZNAME:CEST
DTSTART:20180325T010000
END:DAYLIGHT
BEGIN:STANDARD
TZOFFSETFROM:+0200
TZOFFSETTO:+0100
TZNAME:CET
DTSTART:20181028T010000
END:STANDARD
BEGIN:DAYLIGHT
TZOFFSETFROM:+0100
TZOFFSETTO:+0200
TZNAME:CEST
DTSTART:20190331T010000
END:DAYLIGHT
BEGIN:STANDARD
TZOFFSETFROM:+0200
TZOFFSETTO:+0100
TZNAME:CET
DTSTART:20191027T010000
END:STANDARD
BEGIN:DAYLIGHT
TZOFFSETFROM:+0100
TZOFFSETTO:+0200
TZNAME:CEST
DTSTART:20200329T010000
END:DAYLIGHT
BEGIN:STANDARD
TZOFFSETFROM:+0200
TZOFFSETTO:+0100
TZNAME:CET
DTSTART:20201025T010000
END:STANDARD
BEGIN:DAYLIGHT
TZOFFSETFROM:+0100
TZOFFSETTO:+0200
TZNAME:CEST
DTSTART:20210328T010000
END:DAYLIGHT
BEGIN:STANDARD
TZOFFSETFROM:+0200
TZOFFSETTO:+0100
TZNAME:CET
DTSTART:20211031T010000
END:STANDARD
END:VTIMEZONE
BEGIN:VEVENT
DTSTART;VALUE=DATE:20200404
DTEND;VALUE=DATE:20200406
DTSTAMP:20260425T185743
CREATED:20200216T203249Z
LAST-MODIFIED:20200401T110822Z
UID:516-1585958400-1586131199@tatsutorakai.org
SUMMARY:FÄLLT LEIDER AUS!!!   -   Jugo Ryu Toide Jiu Jutsu - Lehrgang
DESCRIPTION:Achtung: Der Lehrgang und alle parallelen Prüfungen mit Josef Linder fallen leider aus gegebenem Anlass aus!!!\nWir informieren euch ob und wann die Veranstaltung zu einem späteren Zeitpunkt stattfinden wird. \n  \nAm Wochenende vor Ostern findet wieder der traditionelle Osterlehrgang des TTK mit Prof. Dr. Dr. Josef Linder statt! \nWir wollen ab diesem Jahr innerhalb unserer Osterlehrgänge (normaler Weise immer am Wochenende vor Ostern) nicht nur weiterhin bei Josef Jiu Jutsu im okinawaischen Jugo Ryu Toide – Stil lernen und üben\, sondern dabei künftig zudem nach einem fundierten Curriculum vorgehen und auch Prüfungen mit internationaler Anerkennung organisieren. Das bedeutet auch\, dass Josef uns im gesamten Spektrum vom Fundament bis zu hochkomplexen Techniken unterrichten und insbesondere für Trainer und Lehrer wichtige Hintergrund- und Detailinformationen lehren wird. \nDie Ausschreibung folgt in Kürze\, Prüfungsmodalitäten auf Anfrage. \nBitte informiert auch Eure (Mit-)Trainierenden und Schüler\, Eure News-Abonnenten und Eure Verteilerlisten über unsere Lehrgänge und bitte gebt die Informationen bzw. die Ausschreibungen auch an alle weiteren möglicher Weise interessierten Freunde und Bekannten weiter\, denn sicherlich erreichen wir nicht alle Interessierten direkt. Wir danken Euch für Eure Unterstützung!   Wir freuen uns darauf\, Euch und Eure Schüler\, Freunde und Bekannten bei unserem Lehrgangs-Event zu begrüßen! \nEs grüßt Euch herzlich \ndas Vorstandsteam des Tatsu Tora Kai e.V.
URL:https://tatsutorakai.org/event/jugo-ryu-toide-jiu-jutsu-lehrgang/
LOCATION:Turnhalle der Grundschule Igensdorf\, St.-Georg-Str. 20\, Igensdorf\, Bayern\, 91338\, Deutschland
END:VEVENT
BEGIN:VEVENT
DTSTART;VALUE=DATE:20191102
DTEND;VALUE=DATE:20191104
DTSTAMP:20260425T185743
CREATED:20190426T202321Z
LAST-MODIFIED:20190917T071505Z
UID:432-1572652800-1572825599@tatsutorakai.org
SUMMARY:02./03. Nov: Iai-Jitsu-Lehrgang
DESCRIPTION:ACHTUNG: Datum geändert! – Im November wird Josef vom 02.11. bis zum 03.11.2019\, wie gewohnt\, wieder einen Iai-Jitsu- Lehrgang halten.\nDie Iai-Danprüfungen finden im Rahmen dieser Veranstaltung statt. \nAusschreibung: Ausschreibung_Iai_Nov_2019_NEU
URL:https://tatsutorakai.org/event/iai-jitsu-lehrgang/
LOCATION:Turnhalle der Grundschule Igensdorf\, St.-Georg-Str. 20\, Igensdorf\, Bayern\, 91338\, Deutschland
END:VEVENT
BEGIN:VEVENT
DTSTART;VALUE=DATE:20191005
DTEND;VALUE=DATE:20191007
DTSTAMP:20260425T185743
CREATED:20190426T201053Z
LAST-MODIFIED:20190904T201241Z
UID:423-1570233600-1570406399@tatsutorakai.org
SUMMARY:Lehrgang zum Thema moderner Nahkampf und effiziente Selbstverteidigung
DESCRIPTION:Liebe Mitglieder und Freunde des Tatsu Tora Kai!\n\nWir freuen uns\, Euch einen Lehrgang mit einem ganz außergewöhnlichen Referenten anküdigen zu dürfen!\nSozusagen als „großer Trost“ für die leider erforderliche Umplanung im Juni diesen Jahres konnten wir für das Thema\nmoderner Nahkampf und effiziente Selbstverteidigung den international bekannten und angesehenen Experten\nGerhard Schmitt  gewinnen.\n\nDen meisten wird er ohnehin ein Begriff sein\, er u.a. auch durch seine Kampfkunstbücher in der Szene bekannt und ein ‚Kämpfer der ersten Stunde‘.\n\nDie Ausschreibung findet Ihr im Anhang.\nBitte verteilt sie auch an alle anderen Interessierten in Eurem Umfeld\, sicherlich erreichen wir nicht alle\, die dieser großartige Lehrgang interessiert! (Spätestens seit der DSGV nicht mehr…)\nDankeschön für Eure Hilfe!\nWir freuen uns darauf\, Euch bei diesem höchstinteressanten Seminar begrüßen zu dürfen! 🙂\nFür leckere Verpflegung ist in gewohnter Weise gesorgt.\n\nEs grüßt Euch herzlich\nder Vorstand des Tatsu Tora Kai\n\n\nAusschreibung: moderner-Nahkampf_Gerhard-Schmitt_10-2019
URL:https://tatsutorakai.org/event/lehrgang-zum-thema-moderner-nahkampf-und-effiziente-selbstverteidigung/
LOCATION:Turnhalle der Grundschule Igensdorf\, St.-Georg-Str. 20\, Igensdorf\, Bayern\, 91338\, Deutschland
END:VEVENT
BEGIN:VEVENT
DTSTART;VALUE=DATE:20190713
DTEND;VALUE=DATE:20190715
DTSTAMP:20260425T185743
CREATED:20190201T160127Z
LAST-MODIFIED:20190426T203500Z
UID:143-1562976000-1563148799@tatsutorakai.org
SUMMARY:Sommerlehrgang und Prüfung des TTK in Pettensiedel
DESCRIPTION:Unser Sommerlehrgang mit Prüfung findet am 13. + 14. Juli 2019 in Pettensiedel statt.\nAnmeldungen zur Prüfung mit den üblichen Informationen (Nachname\, Vorname\, Geburtsdatum und -ort\, IMAU-Nummer (falls vorhanden)\, aktuelle Graduierung\, angestrebte Graduierung und Verein) bitte bis zum 26. Mai an diese eMail-Adresse (TatsuToraKai@web.de) senden.\nDie Ausschreibung mit der genauen Zeitplanung folgt\, wenn wir die Prüfung koordiniert haben
URL:https://tatsutorakai.org/event/testeintrag/
LOCATION:ASV Pettensiedel\, Am Egelseebach 6\, Igensdorf\, 91338
END:VEVENT
BEGIN:VEVENT
DTSTART;VALUE=DATE:20190531
DTEND;VALUE=DATE:20190603
DTSTAMP:20260425T185743
CREATED:20190315T161044Z
LAST-MODIFIED:20190426T202113Z
UID:299-1559260800-1559519999@tatsutorakai.org
SUMMARY:Kobudo-Lehrgang
DESCRIPTION:Themen werden klassische japanische Waffen und ihre Besonderheiten im Vergleich sein.\nBitte dafür entsprechende Übungswaffen\, soweit vorhanden\, mitbringen: Bo\, Jo\, Hanbo\, also Stöcke in verschiedenen Längen\, Messer / Tanto\, Schwert / Bokken\, Gürtel / Hoju\, Naginata\, Kama / andere Klingenwaffen.\nNach vorheriger ‚Reservierung‘ können auch Waffen ausgeliehen werden – bitte vorher bescheidgeben.\nDieser Lehrgang ist auch ein Vorbereitungslehrgang für die Iai-Jitsu- Danprüfungen bei Josef im November.\nKyu-Prüfungen bei Josef sind bei diesem Lehrgang (Juni) möglich.\n\nAnfragen und Anmeldungen bitte an TatsuToraKai@web.de. \nAusschreibung: LG-Ausschreibung_Kobudo_MaiJun_2019_
URL:https://tatsutorakai.org/event/seminar-moderne-selbstverteidigung-und-nah-und-strassenkampf/
LOCATION:Turnhalle der Grundschule Igensdorf\, St.-Georg-Str. 20\, Igensdorf\, Bayern\, 91338\, Deutschland
END:VEVENT
BEGIN:VEVENT
DTSTART;TZID=Europe/Berlin:20190413T093000
DTEND;TZID=Europe/Berlin:20190414T153000
DTSTAMP:20260425T185743
CREATED:20190201T160105Z
LAST-MODIFIED:20190329T151135Z
UID:137-1555147800-1555255800@tatsutorakai.org
SUMMARY:Lehrgang: Osterlehrgang 2019 mit Josef Linder
DESCRIPTION:Osterlehrgang 2019 \nProf. Dr. Josef Linder aus Moskau zeigt historische\, klassische und selbstverteidigungstaugliche („moderne“) Jiu-Jitsu-Techniken gegen waffenlose\, Messer- und (Lang-)Stockangriffe. \nLehrgangsauschreibung als pdf: LG-Ausschreibung_April_2019
URL:https://tatsutorakai.org/event/osterlehrgang-2019/
LOCATION:Turnhalle der Grundschule Igensdorf\, St.-Georg-Str. 20\, Igensdorf\, Bayern\, 91338\, Deutschland
END:VEVENT
END:VCALENDAR